BEGIN:VCALENDAR
VERSION:2.0
PRODID:-//Coaching-Natur - ECPv6.15.20//NONSGML v1.0//EN
CALSCALE:GREGORIAN
METHOD:PUBLISH
X-ORIGINAL-URL:https://coaching-natur.de
X-WR-CALDESC:Veranstaltungen fÃ¼r Coaching-Natur
REFRESH-INTERVAL;VALUE=DURATION:PT1H
X-Robots-Tag:noindex
X-PUBLISHED-TTL:PT1H
BEGIN:VTIMEZONE
TZID:Europe/Berlin
BEGIN:DAYLIGHT
TZOFFSETFROM:+0100
TZOFFSETTO:+0200
TZNAME:CEST
DTSTART:20240331T010000
END:DAYLIGHT
BEGIN:STANDARD
TZOFFSETFROM:+0200
TZOFFSETTO:+0100
TZNAME:CET
DTSTART:20241027T010000
END:STANDARD
BEGIN:DAYLIGHT
TZOFFSETFROM:+0100
TZOFFSETTO:+0200
TZNAME:CEST
DTSTART:20250330T010000
END:DAYLIGHT
BEGIN:STANDARD
TZOFFSETFROM:+0200
TZOFFSETTO:+0100
TZNAME:CET
DTSTART:20251026T010000
END:STANDARD
BEGIN:DAYLIGHT
TZOFFSETFROM:+0100
TZOFFSETTO:+0200
TZNAME:CEST
DTSTART:20260329T010000
END:DAYLIGHT
BEGIN:STANDARD
TZOFFSETFROM:+0200
TZOFFSETTO:+0100
TZNAME:CET
DTSTART:20261025T010000
END:STANDARD
END:VTIMEZONE
BEGIN:VEVENT
DTSTART;TZID=Europe/Berlin:20250616T110000
DTEND;TZID=Europe/Berlin:20250627T150000
DTSTAMP:20260425T182804
CREATED:20240718T132151Z
LAST-MODIFIED:20240718T162237Z
UID:1998-1750071600-1751036400@coaching-natur.de
SUMMARY:Visionssuche am Waldhof
DESCRIPTION:Entdecke deine innere Kraft. \n\n\n\nInmitten der unberÃ¼hrten Natur beim Zukunftsdorf Waldhof laden wir dich ein zu einer transformativen Reise. \n\n\n\nEine Visionssuche kann dein Leben Ã¤ndern. \n\n\n\n\n\nWas erwartet dich? \n\n\n\n\nEine intensive 12-tÃ¤gige Erfahrung\, bestehend aus 4 Tagen Vorbereitung\, 4 Tagen Solozeit in der Wildnis und 4 Tagen Integration\n\n\n\nBegleitung durch erfahrene Mentoren\, die dich sicher durch den Prozess fÃ¼hren\n\n\n\nDie Chance\, alte Muster loszulassen und neue Perspektiven zu gewinnen\n\n\n\nTiefe Verbindung mit der Natur und deinem inneren Selbst\n\n\n\n\nDie Visionssuche ist ein uraltes Ãœbergangsritual\, das dir hilft\, wichtige Lebensfragen zu klÃ¤ren und deinen Platz in der Welt neu zu definieren. In der Abgeschiedenheit der Natur\, frei von Ablenkungen des Alltags\, Ã¶ffnest du dich fÃ¼r tiefe Einsichten und mÃ¶glicherweise lebensverÃ¤ndernde Visionen. \n\n\n\n\n\n\n\nWarum am Zukunftsdorf Waldhof? \n\n\n\nUnser Ort bietet die perfekte Umgebung fÃ¼r deine Reise nach innen: \n\n\n\n\nWeitlÃ¤ufige\, unberÃ¼hrte Naturlandschaften fÃ¼r deine Solozeit\n\n\n\nSicherer und unterstÃ¼tzender Ort fÃ¼r Vor- und Nachbereitung\n\n\n\nNachhaltige Infrastruktur\, die im Einklang mit der Natur steht\n\n\n\n\nFÃ¼r wen ist die Visionssuche geeignet? \n\n\n\nDie Visionssuche spricht Menschen in allen Lebensphasen an. Ob du einen Neuanfang suchst\, eine wichtige Entscheidung treffen musst oder einfach tiefer mit dir selbst in Kontakt kommen mÃ¶chtest &#8211; hier findest du den Raum dafÃ¼r. \n\n\n\nLass dich ein auf dieses kraftvolle Ritual und kehre gestÃ¤rkt\, inspiriert und mit neuer Klarheit in deinen Alltag zurÃ¼ck. Die Visionssuche am Zukunftsdorf Waldhof kÃ¶nnte der Wendepunkt sein\, auf den du gewartet hast. \n\n\n\nMelde dich jetzt an und mache den ersten Schritt zu deiner persÃ¶nlichen Transformation!
URL:https://coaching-natur.de/event/visionssuche-am-waldhof/
LOCATION:Waldhof Elgershausen\, Waldhof 12\, Greifenstein\, 35753\, Deutschland
CATEGORIES:Visionssuche
ATTACH;FMTTYPE=image/jpeg:https://coaching-natur.de/wp-content/uploads/2021/08/csm_GettyImages-865683808_1e88a5e910.jpg
END:VEVENT
END:VCALENDAR