BEGIN:VCALENDAR
VERSION:2.0
PRODID:-//Coaching-Natur - ECPv6.15.20//NONSGML v1.0//EN
CALSCALE:GREGORIAN
METHOD:PUBLISH
X-ORIGINAL-URL:https://coaching-natur.de
X-WR-CALDESC:Veranstaltungen für Coaching-Natur
REFRESH-INTERVAL;VALUE=DURATION:PT1H
X-Robots-Tag:noindex
X-PUBLISHED-TTL:PT1H
BEGIN:VTIMEZONE
TZID:Europe/Berlin
BEGIN:DAYLIGHT
TZOFFSETFROM:+0100
TZOFFSETTO:+0200
TZNAME:CEST
DTSTART:20240331T010000
END:DAYLIGHT
BEGIN:STANDARD
TZOFFSETFROM:+0200
TZOFFSETTO:+0100
TZNAME:CET
DTSTART:20241027T010000
END:STANDARD
BEGIN:DAYLIGHT
TZOFFSETFROM:+0100
TZOFFSETTO:+0200
TZNAME:CEST
DTSTART:20250330T010000
END:DAYLIGHT
BEGIN:STANDARD
TZOFFSETFROM:+0200
TZOFFSETTO:+0100
TZNAME:CET
DTSTART:20251026T010000
END:STANDARD
BEGIN:DAYLIGHT
TZOFFSETFROM:+0100
TZOFFSETTO:+0200
TZNAME:CEST
DTSTART:20260329T010000
END:DAYLIGHT
BEGIN:STANDARD
TZOFFSETFROM:+0200
TZOFFSETTO:+0100
TZNAME:CET
DTSTART:20261025T010000
END:STANDARD
END:VTIMEZONE
BEGIN:VEVENT
DTSTART;TZID=Europe/Berlin:20250523T180000
DTEND;TZID=Europe/Berlin:20250525T140000
DTSTAMP:20260425T182943
CREATED:20240613T171546Z
LAST-MODIFIED:20240613T173338Z
UID:1966-1748023200-1748181600@coaching-natur.de
SUMMARY:Die Nacht des Feuers 2025
DESCRIPTION:Ein Ritual am Übergang vom Jungen zum Mann. Für Jungen ab 13 Jahren mit ihren Vätern\, Großvätern\, Paten oder Mentoren\n\n\n\nWenn Jungen zu Männern werden und beginnen\, ihre eigenen Wege ins Leben zu gehen\, wird der Kontakt zum Vater oder einem väterlichen Mentor oder Freund immer wichtiger. Die Jungen verlassen den geschützten Raum ihrer Kindheit\, der oft von weiblichen Bezugspersonen (Müttern\, Lehrerinnen) gestaltet wird. und orientieren sich stärker an männlichen Vorbildern. \n\n\n\nIn der Nacht des Feuers werden die Jungen symbolisch aus der Kindheit entlassen und in den Kreis der Männer aufgenommen. Für diesen Lebensübergang gibt es initiatorische Impulse\, die hier durch kraftvolle Rituale erfahrbar werden. \n\n\n\nDie Jungen und die erwachsenen Männer kommen auf nicht alltägliche Weise miteinander ins Gespräch. Wir sitzen am Feuer\, trommeln\, besprechen Gemeinsames und Trennendes. Junge und erwachsene Männer unterstützen sich bei Aufgaben und formulieren gegenseitige Erwartungen. Dabei erfahren wir\, wie wir auf Augenhöhe miteinander umgehen und voneinander lernen. So erkennen die Jungen Grenzen und Möglichkeiten und erproben ihre eigenen Wege. Sie werden gesegnet und bestärkt\, auf die innere Stimme zu hören\, ihren inneren Feuer zu vertrauen und dieses weiterzugeben. \n\n\n\nDieser Kurs schöpft aus den spirituellen Erfahrungen unserer Vorväter und zielt weniger auf das kognitive Verstehen. Vielmehr geht es um das gemeinsame Erleben. Zum Schluss feiern alle gemeinsam am Feuer ein Fest. Übernachtung im Tipi oder unter dem Sternenhimmel.
URL:https://coaching-natur.de/event/die-nacht-des-feuers-2025/
CATEGORIES:Nacht des Feuers
ATTACH;FMTTYPE=image/jpeg:https://coaching-natur.de/wp-content/uploads/2021/08/DSC01580-scaled.jpg
END:VEVENT
END:VCALENDAR